BEGIN:VCALENDAR
VERSION:2.0
PRODID:-//Connecticut State Referee Program - ECPv6.15.3//NONSGML v1.0//EN
CALSCALE:GREGORIAN
METHOD:PUBLISH
X-WR-CALNAME:Connecticut State Referee Program
X-ORIGINAL-URL:https://www.ctreferee.net
X-WR-CALDESC:Events for Connecticut State Referee Program
REFRESH-INTERVAL;VALUE=DURATION:PT1H
X-Robots-Tag:noindex
X-PUBLISHED-TTL:PT1H
BEGIN:VTIMEZONE
TZID:America/New_York
BEGIN:DAYLIGHT
TZOFFSETFROM:-0500
TZOFFSETTO:-0400
TZNAME:EDT
DTSTART:20220313T070000
END:DAYLIGHT
BEGIN:STANDARD
TZOFFSETFROM:-0400
TZOFFSETTO:-0500
TZNAME:EST
DTSTART:20221106T060000
END:STANDARD
BEGIN:DAYLIGHT
TZOFFSETFROM:-0500
TZOFFSETTO:-0400
TZNAME:EDT
DTSTART:20230312T070000
END:DAYLIGHT
BEGIN:STANDARD
TZOFFSETFROM:-0400
TZOFFSETTO:-0500
TZNAME:EST
DTSTART:20231105T060000
END:STANDARD
END:VTIMEZONE
BEGIN:VTIMEZONE
TZID:UTC
BEGIN:STANDARD
TZOFFSETFROM:+0000
TZOFFSETTO:+0000
TZNAME:UTC
DTSTART:20210101T000000
END:STANDARD
END:VTIMEZONE
BEGIN:VEVENT
DTSTART;TZID=America/New_York:20230225T120000
DTEND;TZID=America/New_York:20230225T140000
DTSTAMP:20260423T181746
CREATED:20230201T191332Z
LAST-MODIFIED:20230225T150328Z
UID:1687-1677326400-1677333600@www.ctreferee.net
SUMMARY:CSRP Bethany In-person field session (one is required for new referees) Click for details and registration
DESCRIPTION:Registration for this field session is closed.  will be held Saturday\, February 25\, 2023 from 12pm – 2pm at CFC Park in Bethany. The address is: \n667 Amity Rd\, Bethany\, CT 06524 \nTo register for this a different session\, click (or copy/paste) the link below to register through google docs. \nhttps://docs.google.com/forms/d/e/1FAIpQLSdgtxQchIKDDLCNXfqjt69or0fopDBSM5VxTGbxk-EX6ln4oA/viewform?usp=sf_link \nPlease note\, attending an in-person field session is required and space is limited for each event. Changing sessions for non-emergency situations is difficult. (Apologies but ‘the coach just added/changed the practice schedule’ is not an emergency.) \nIf you have any questions\, please email info@ctreferee.net
URL:https://www.ctreferee.net/event/csrp-in-person-field-session-one-is-required-for-new-referees-click-for-details-and-registration-2/
END:VEVENT
BEGIN:VEVENT
DTSTART;TZID=America/New_York:20230220T100000
DTEND;TZID=America/New_York:20230220T120000
DTSTAMP:20260423T181746
CREATED:20230201T190046Z
LAST-MODIFIED:20230201T193810Z
UID:1685-1676887200-1676894400@www.ctreferee.net
SUMMARY:CSRP Oakdale In-person field session (one is required for new referees) Click for details and registration
DESCRIPTION:This field session will be held Monday\, February 20\, 2023 (President’s Day – No School) from 10am – 12pm at Wide World of Indoor Sports in Montville/Oakdale. The address is: \n2 Sachatello Industrial Drive\, Oakdale CT 06370 \nTo register for this session\, click (or copy/paste) the link below to register through google docs. \nhttps://docs.google.com/forms/d/e/1FAIpQLSdgtxQchIKDDLCNXfqjt69or0fopDBSM5VxTGbxk-EX6ln4oA/viewform?usp=sf_link \nPlease note\, attending an in-person field session is required and space is limited for each event. Changing sessions for non-emergency situations is difficult. (Apologies but ‘the coach just added/changed the practice schedule’ is not an emergency.) \nIf you have any questions\, please email info@ctreferee.net
URL:https://www.ctreferee.net/event/csrp-in-person-field-session-one-is-required-for-new-referees-click-for-details-and-registration/
END:VEVENT
BEGIN:VEVENT
DTSTART;TZID=America/New_York:20230216T190000
DTEND;TZID=America/New_York:20230216T210000
DTSTAMP:20260423T181746
CREATED:20230202T130209Z
LAST-MODIFIED:20230202T132934Z
UID:1698-1676574000-1676581200@www.ctreferee.net
SUMMARY:CSRP Continuing Education - Virtual meeting - Applying Advantage
DESCRIPTION:Please plan to attend the CSRP virtual meeting to discuss Applying Advantage. We’ll use FIFA considerations to look at what led up to the foul\, the severity of the foul\, and might it actually punish the attacking team by calling the foul. \nClick HERE to review and/or download FIFA considerations \nClick  HERE to register for this exciting event
URL:https://www.ctreferee.net/event/csrp-continuing-education-virtual-meeting-applying-advantage/
END:VEVENT
BEGIN:VEVENT
DTSTART;TZID=America/New_York:20230207T183000
DTEND;TZID=America/New_York:20230207T203000
DTSTAMP:20260423T181746
CREATED:20230202T123156Z
LAST-MODIFIED:20230202T123156Z
UID:1696-1675794600-1675801800@www.ctreferee.net
SUMMARY:CSRP New Referee Virtual Meeting
DESCRIPTION:This is one of the required virtual meetings for new referee certification. Please click the link below to register with google form. \nhttps://docs.google.com/forms/d/e/1FAIpQLSeJ_i6NHvtfUIxPa8XgCa0dr-7ezsDvmthXVkZvG5A4bbzE-w/viewform?usp=sf_link
URL:https://www.ctreferee.net/event/csrp-new-referee-virtual-meeting/
END:VEVENT
BEGIN:VEVENT
DTSTART;TZID=America/New_York:20230131T183000
DTEND;TZID=America/New_York:20230131T203000
DTSTAMP:20260423T181746
CREATED:20230106T210142Z
LAST-MODIFIED:20230106T211137Z
UID:1654-1675189800-1675197000@www.ctreferee.net
SUMMARY:Virtual Meeting - One is required for new referees Click for details and registration
DESCRIPTION:The meeting link will be emailed to candidates 24-48 hours before the meeting. Click the “website” link below to register through google forms.
URL:https://www.ctreferee.net/event/virtual-meeting-one-is-required-for-new-referees-4/
END:VEVENT
BEGIN:VEVENT
DTSTART;TZID=America/New_York:20230127T183000
DTEND;TZID=America/New_York:20230127T203000
DTSTAMP:20260423T181746
CREATED:20230106T203502Z
LAST-MODIFIED:20230106T211038Z
UID:1644-1674844200-1674851400@www.ctreferee.net
SUMMARY:Virtual Meeting - One is required for new referees Click for details and registration
DESCRIPTION:The meeting link will be emailed to candidates 24-48 hours before the meeting. Click the “website” link below to register through google forms.
URL:https://www.ctreferee.net/event/virtual-meeting-one-is-required-for-new-referees-3/
END:VEVENT
BEGIN:VEVENT
DTSTART;TZID=America/New_York:20230120T183000
DTEND;TZID=America/New_York:20230120T203000
DTSTAMP:20260423T181746
CREATED:20230106T203319Z
LAST-MODIFIED:20230106T210924Z
UID:1642-1674239400-1674246600@www.ctreferee.net
SUMMARY:Virtual Meeting - One is required for new referees Click for details and registration
DESCRIPTION:The meeting link will be emailed to candidates 24-48 hours before the meeting. Click the “website” link below to register through google forms. \n 
URL:https://www.ctreferee.net/event/virtual-meeting-one-is-required-for-new-referees-2/
END:VEVENT
BEGIN:VEVENT
DTSTART;TZID=America/New_York:20230118T183000
DTEND;TZID=America/New_York:20230118T203000
DTSTAMP:20260423T181746
CREATED:20230106T203148Z
LAST-MODIFIED:20230106T210713Z
UID:1640-1674066600-1674073800@www.ctreferee.net
SUMMARY:Virtual Meeting - One is required for new referees. Click for details and registration
DESCRIPTION:The meeting link will be emailed to candidates 24-48 hours before the meeting. Click the “website” link below to register through google forms.
URL:https://www.ctreferee.net/event/virtual-meeting-one-is-required-for-new-referees/
END:VEVENT
BEGIN:VEVENT
DTSTART;VALUE=DATE:20221008
DTEND;VALUE=DATE:20221010
DTSTAMP:20260423T181746
CREATED:20220927T161247Z
LAST-MODIFIED:20220927T183322Z
UID:1505-1665187200-1665359999@www.ctreferee.net
SUMMARY:SCOR Fall Classic
DESCRIPTION:SCOR Fall Classic\nAll games will be played in Ridgefield.\nBoys will play Saturday\, Girls will play Sunday\nFor more information: https://www.scor.org/Default.aspx?tabid=927306\nContact: aimeebgreferee@gmail.com
URL:https://www.ctreferee.net/event/scor-fall-classic/
END:VEVENT
BEGIN:VEVENT
DTSTART;VALUE=DATE:20221008
DTEND;VALUE=DATE:20221010
DTSTAMP:20260423T181746
CREATED:20220927T183408Z
LAST-MODIFIED:20220927T183408Z
UID:1508-1665187200-1665359999@www.ctreferee.net
SUMMARY:Rocky Hill Columbus Day
DESCRIPTION:Rocky Hill Columbus Day\nU9/U10 – $30 solo Referee\nU11/U12 – $25 Referee\, $15 ARs\nU13+ – $35 Referee\, $20 ARs\nContact: zachary.mintz@refereeassign.onmicrosoft.com
URL:https://www.ctreferee.net/event/rocky-hill-columbus-day/
END:VEVENT
BEGIN:VEVENT
DTSTART;VALUE=DATE:20221008
DTEND;VALUE=DATE:20221010
DTSTAMP:20260423T181746
CREATED:20220927T155636Z
LAST-MODIFIED:20220927T155636Z
UID:1501-1665187200-1665359999@www.ctreferee.net
SUMMARY:Bethel Soccer Club Columbus Day Tournament
DESCRIPTION:Bethel Soccer Club Columbus Day Tournament\nwww.bethelsoccer.org\nContact jmcd7@sbcglobal.net
URL:https://www.ctreferee.net/event/bethel-soccer-club-columbus-day-tournament/
END:VEVENT
BEGIN:VEVENT
DTSTART;VALUE=DATE:20221008
DTEND;VALUE=DATE:20221010
DTSTAMP:20260423T181746
CREATED:20220927T155357Z
LAST-MODIFIED:20220927T155913Z
UID:1499-1665187200-1665359999@www.ctreferee.net
SUMMARY:West Haven Invitational Tournament
DESCRIPTION:West Haven Invitational Tournament\nU10 $30 solo Referee\nU11/U12 $30 Referee\, $20 ARs\nU15 $35 Referee\, $20 ARs\nFor more information: https://www.whysl.org\nReferee Application: https://yalesurvey.ca1.qualtrics.com/jfe/form/SV_238lvO7iwd1KYhE
URL:https://www.ctreferee.net/event/west-haven-invitational-tournament/
END:VEVENT
BEGIN:VEVENT
DTSTART;VALUE=DATE:20221008
DTEND;VALUE=DATE:20221010
DTSTAMP:20260423T181746
CREATED:20220927T155159Z
LAST-MODIFIED:20220927T155827Z
UID:1497-1665187200-1665359999@www.ctreferee.net
SUMMARY:CT Rush Tournament
DESCRIPTION:CT Rush Columbus Day Tournament\nGames in Brookfield / Easton CT\, and South Salem / Somers NY\nU9/10 – $45 solo Referee\nU11/12 – $50 solo Referee\nU13-U15 – $50 Referee\, $35 ARs\nContact rpackardjr@gmail.com with availability
URL:https://www.ctreferee.net/event/ct-rush-tournament/
END:VEVENT
BEGIN:VEVENT
DTSTART;TZID=America/New_York:20220928T180000
DTEND;TZID=America/New_York:20220928T200000
DTSTAMP:20260423T181746
CREATED:20220921T163600Z
LAST-MODIFIED:20220921T163600Z
UID:1478-1664388000-1664395200@www.ctreferee.net
SUMMARY:Virtual Meeting - New Referee Candidates
DESCRIPTION:This is one of the required virtual meetings for new referees. Candidates need to attend only one session.  September 28\, 2022 from 6pm – 8pm. You can use the link below to test equipment and connections any time before meeting. (Recommended). \nhttps://meetings.ringcentral.com/j/7794940076 \nThe instructors will be using polls to answer questions\, and we have found that logging in by smartphone prevents attendees from using the poll feature. Please use a laptop or desktop computer.
URL:https://www.ctreferee.net/event/virtual-meeting-new-referee-candidates/
END:VEVENT
BEGIN:VEVENT
DTSTART;TZID=America/New_York:20220918T160000
DTEND;TZID=America/New_York:20220918T180000
DTSTAMP:20260423T181746
CREATED:20220826T170938Z
LAST-MODIFIED:20220902T195316Z
UID:1334-1663516800-1663524000@www.ctreferee.net
SUMMARY:New Referee In-Person Field Training
DESCRIPTION:This is one of the required in-person field training sessions to become a new referee. Attendance is only required at one session. September 18\, 2022 45 Elm Street North Haven CT. The session starts promptly at 4pm so arrive early enough to get checked in\, and will end at 6pm. \nIf you have the referee uniform\, please wear it. If you have the referee kit\, please bring your gear.  If yo don’t have the kit\, please take the steps necessary to obtain one. There are thousands of new referees across the country all looking to get equipped before the season starts. \nYou can go to officialsports.com to see the required uniform. \nFor 99% of all new referees\, the yellow shirt is the first choice. Unless you live in a town where the team wears yellow. If so\, contact local referees to see what color they wear. Also\, you’ll probably also want to get a yellow shirt in case you work in another town.
URL:https://www.ctreferee.net/event/new-referee-in-person-field-training-3/
END:VEVENT
BEGIN:VEVENT
DTSTART;TZID=America/New_York:20220916T180000
DTEND;TZID=America/New_York:20220916T200000
DTSTAMP:20260423T181746
CREATED:20220826T171519Z
LAST-MODIFIED:20220916T193608Z
UID:1338-1663351200-1663358400@www.ctreferee.net
SUMMARY:CANCELED New Referee Virtual Meeting CANCELED
DESCRIPTION:This is one of the required virtual meetings for new referees. Candidates need to attend only one session.  September 16\, 2022 from 6pm – 8pm. You can use the link below to test equipment and connections any time before meeting. (Recommended). \nThe instructors will be using polls to answer questions\, and we have found that logging in by smartphone prevents attendees from using the poll feature. Please use a laptop or desktop computer. \n 
URL:https://www.ctreferee.net/event/new-referee-virtual-meeting-2/
END:VEVENT
BEGIN:VEVENT
DTSTART;TZID=America/New_York:20220910T160000
DTEND;TZID=America/New_York:20220910T180000
DTSTAMP:20260423T181746
CREATED:20220826T170805Z
LAST-MODIFIED:20220826T172146Z
UID:1332-1662825600-1662832800@www.ctreferee.net
SUMMARY:New Referee In-Person Field Training
DESCRIPTION:This is one of the required in-person field training sessions to become a new referee. Attendance is only required at one session. September 10\, 2022 at 400 Main Street\, Somers. The session starts promptly at 4pm so arrive early enough to get checked in\, and will end at 6pm. \nIf you have the referee uniform\, please wear it. If you have the referee kit\, please bring your gear.  If yo don’t have the kit\, please take the steps necessary to obtain one. There are thousands of new referees across the country all looking to get equipped before the season starts. \nYou can go to officialsports.com to see the required uniform. \nFor 99% of all new referees\, the yellow shirt is the first choice. Unless you live in a town where the team wears yellow. If so\, contact local referees to see what color they wear. Also\, you’ll probably also want to get a yellow shirt in case you work in another town.
URL:https://www.ctreferee.net/event/new-referee-in-person-field-training-2/
END:VEVENT
BEGIN:VEVENT
DTSTART;VALUE=DATE:20220903
DTEND;VALUE=DATE:20220905
DTSTAMP:20260423T181746
CREATED:20210816T050101Z
LAST-MODIFIED:20220826T135052Z
UID:508-1662163200-1662335999@www.ctreferee.net
SUMMARY:Farmington Bernie Ward Labor Day Shootout
DESCRIPTION:All games are played at Tunxis Mead\, Bristol Soccer club and Farmington Sports Arena (FSA). \nBring water and wear the new complete USSF referee uniform with solid black shorts and 2 stripes socks. \nEmail Joe Maimone at joem.refassignor@gmail.com for assignment information.
URL:https://www.ctreferee.net/event/farmington-bernie-ward-labor/
LOCATION:Tunxis Meade\, Farmington\, CT\, 06032
END:VEVENT
BEGIN:VEVENT
DTSTART;TZID=America/New_York:20220830T180000
DTEND;TZID=America/New_York:20220830T200000
DTSTAMP:20260423T181746
CREATED:20220826T171415Z
LAST-MODIFIED:20220830T004841Z
UID:1336-1661882400-1661889600@www.ctreferee.net
SUMMARY:New Referee Virtual Meeting
DESCRIPTION:This is one of the required virtual meetings for new referees. Candidates need to attend only one session.  August 30\, 2022 from 6pm – 8pm. You can use the link below to test equipment and connections any time before meeting. (Recommended). \nThe instructors will be using polls to answer questions\, and we have found that logging in by smartphone prevents attendees from using the poll feature. Please use a laptop or desktop computer. \nJoin from PC\, Mac\, Linux\, iOS or Android: https://meetings.ringcentral.com/j/5990098550 \nTelephone: (470)8692200 Meeting ID: 599 009 8550
URL:https://www.ctreferee.net/event/new-referee-virtual-meeting/
END:VEVENT
BEGIN:VEVENT
DTSTART;TZID=America/New_York:20220828T160000
DTEND;TZID=America/New_York:20220828T180000
DTSTAMP:20260423T181746
CREATED:20220826T170610Z
LAST-MODIFIED:20220826T172024Z
UID:1330-1661702400-1661709600@www.ctreferee.net
SUMMARY:New Referee In-Person Field Training
DESCRIPTION:This is one of the required in-person field training sessions to become a new referee. Attendance is only required at one session. August 28\, 2022 at Allen’s Meadow Park\, 423 Danbury Road\, Wilton. The session starts promptly at 4pm so arrive early enough to get checked in\, and will end at 6pm. \nIf you have the referee uniform\, please wear it. If you have the referee kit\, please bring your gear.  If yo don’t have the kit\, please take the steps necessary to obtain one. There are thousands of new referees across the country all looking to get equipped before the season starts. \nYou can go to officialsports.com to see the required uniform. \nFor 99% of all new referees\, the yellow shirt is the first choice. Unless you live in a town where the team wears yellow. If so\, contact local referees to see what color they wear. Also\, you’ll probably also want to get a yellow shirt in case you work in another town.
URL:https://www.ctreferee.net/event/new-referee-in-person-field-training/
END:VEVENT
BEGIN:VEVENT
DTSTART;VALUE=DATE:20220816
DTEND;VALUE=DATE:20220817
DTSTAMP:20260423T181746
CREATED:20220816T014528Z
LAST-MODIFIED:20220816T014528Z
UID:1201-1660608000-1660694399@www.ctreferee.net
SUMMARY:New Website Go Live
DESCRIPTION:
URL:https://www.ctreferee.net/event/new-website-go-live/
END:VEVENT
BEGIN:VEVENT
DTSTART;VALUE=DATE:20210801
DTEND;VALUE=DATE:20211218
DTSTAMP:20260423T181746
CREATED:20210815T193804Z
LAST-MODIFIED:20220816T014759Z
UID:496-1627776000-1639785599@www.ctreferee.net
SUMMARY:New Referee Registration
DESCRIPTION:NEW REFEREE / Grassroots Training is now OPEN . \nPlease create a profile at CTREFEREE.NET and also at the U.S. Soccer Learning Center (ussoccer.com) . \n.\nNew Referees must log into CTREFEREE.NET scroll to clinic administration and register for New Grassroots Recertification Clinic (GR21). Payment will be made at the Learning Center \nAfter enrolling in the clinic you will receive a confirmation email with links to detailed instructions. \nIn addition to the coursework at the Learning Center\, New Grassroots Referees are required to attend an in-person session with a USSF/CSRP Instructor
URL:https://www.ctreferee.net/event/new-referee-registration/
END:VEVENT
END:VCALENDAR